BEGIN:VCALENDAR
VERSION:2.0
PRODID:-//Norval Foundation - ECPv5.16.4//NONSGML v1.0//EN
CALSCALE:GREGORIAN
METHOD:PUBLISH
X-ORIGINAL-URL:https://www.norvalfoundation.org
X-WR-CALDESC:Events for Norval Foundation
REFRESH-INTERVAL;VALUE=DURATION:PT1H
X-Robots-Tag:noindex
X-PUBLISHED-TTL:PT1H
BEGIN:VTIMEZONE
TZID:Europe/Helsinki
BEGIN:DAYLIGHT
TZOFFSETFROM:+0200
TZOFFSETTO:+0300
TZNAME:EEST
DTSTART:20260329T010000
END:DAYLIGHT
BEGIN:STANDARD
TZOFFSETFROM:+0300
TZOFFSETTO:+0200
TZNAME:EET
DTSTART:20261025T010000
END:STANDARD
END:VTIMEZONE
BEGIN:VEVENT
DTSTART;TZID=Europe/Helsinki:20260423T180000
DTEND;TZID=Europe/Helsinki:20260423T210000
DTSTAMP:20260423T005433
CREATED:20260314T095514Z
LAST-MODIFIED:20260402T105359Z
UID:36963-1776967200-1776978000@www.norvalfoundation.org
SUMMARY:Heirloom Futures Fashion Exhibition & Benefit Auction
DESCRIPTION:Heirloom Futures is a landmark contemporary fashion exhibition celebrating African design\, craftsmanship and cultural storytelling. Presented in partnership with Buchanan & Co.\, the exhibition brings together a curated selection of handmade garments\, footwear and jewellery by leading and emerging African designers — inviting audiences to experience fashion as a cultural artefact and collectible art form. \nThe exhibition takes place at Norval Foundation from 15 – 23 April. \nWe’re proud to announce the first of the brands and designers participating in this year’s exhibition and auction: \n– Rich Mnisi  \n– Cape Cobra Leather  \n– Pichulik  \n– Connade  \n– Crystal Birch  \n(Watch this space for more designer announcements) \nThe exhibition culminates in a glamorous\, yet impactful benefit auction on 23 April\, with 50% of proceeds going towards Norval Foundation’s education centre. Your ticket includes:\n – Access to the auction\, led by Africa’s leading auction house\, Strauss & Co \n– Curated food and drinks by Annalize Catering & Chef Ollie \n– Live performances by Cape Town City Ballet \n– And more surprises throughout the evening \nBe part of a night where art\, fashion\, and culture come together to shape the future. \n\nBOOK
URL:https://www.norvalfoundation.org/event/heirloom-futures-fashion-exhibition-benefit-auction/
CATEGORIES:Concerts,Exhibitions,Food and art events,Museum,New Exhibitions,Norval Foundation,Performance Art
ATTACH;FMTTYPE=image/png:https://www.norvalfoundation.org/wp-content/uploads/2026/03/Website-1.png
END:VEVENT
BEGIN:VEVENT
DTSTART;TZID=Europe/Helsinki:20260425T100000
DTEND;TZID=Europe/Helsinki:20260426T160000
DTSTAMP:20260423T005433
CREATED:20260323T083153Z
LAST-MODIFIED:20260323T083822Z
UID:37096-1777111200-1777219200@www.norvalfoundation.org
SUMMARY:Half Price Weekend
DESCRIPTION:Celebrate Freedom Day weekend at Norval Foundation. \nJoin us on 25 & 26 April for half-price museum tickets and spend the day exploring our galleries and Sculpture Garden — where art\, history and nature meet. \nFreedom. Art. Community. \n\nWe can’t wait to welcome you.
URL:https://www.norvalfoundation.org/event/half-price-weekend/
CATEGORIES:Exhibitions,Family and Kids,Food and art events,Museum,Norval Foundation,Sculpture Garden
ATTACH;FMTTYPE=image/png:https://www.norvalfoundation.org/wp-content/uploads/2026/03/Website-3.png
END:VEVENT
END:VCALENDAR