BEGIN:VCALENDAR
VERSION:2.0
PRODID:-//Norval Foundation - ECPv5.16.4//NONSGML v1.0//EN
CALSCALE:GREGORIAN
METHOD:PUBLISH
X-WR-CALNAME:Norval Foundation
X-ORIGINAL-URL:https://www.norvalfoundation.org
X-WR-CALDESC:Events for Norval Foundation
REFRESH-INTERVAL;VALUE=DURATION:PT1H
X-Robots-Tag:noindex
X-PUBLISHED-TTL:PT1H
BEGIN:VTIMEZONE
TZID:Europe/Helsinki
BEGIN:DAYLIGHT
TZOFFSETFROM:+0200
TZOFFSETTO:+0300
TZNAME:EEST
DTSTART:20260329T010000
END:DAYLIGHT
BEGIN:STANDARD
TZOFFSETFROM:+0300
TZOFFSETTO:+0200
TZNAME:EET
DTSTART:20261025T010000
END:STANDARD
END:VTIMEZONE
BEGIN:VEVENT
DTSTART;TZID=Europe/Helsinki:20260201T110000
DTEND;TZID=Europe/Helsinki:20260201T120000
DTSTAMP:20260424T203043
CREATED:20260113T132502Z
LAST-MODIFIED:20260113T132838Z
UID:36799-1769943600-1769947200@www.norvalfoundation.org
SUMMARY:Billie Zangewa Curator-led Walkabout
DESCRIPTION:Curator Walkabout | Billie Zangewa\n1 February | 11:00 \n  \nExperience “Breeding Ground” through a guided walkabout led by curator Anelisa Mangcu. \n  \nThe exhibition reflects on the quiet\, powerful acts of care that shape our lives\, rendered through Zangewa’s distinctive silk works that centre domestic spaces\, motherhood\, and selfhood. \nDay passes and memberships available via Webtickets.\nPlease RSVP to info@norvalfoundation.org. \n 
URL:https://www.norvalfoundation.org/event/billie-zangewa-curator-led-walkabout/
CATEGORIES:Exhibitions,Museum,Norval Foundation,Talks - Free with purchase of admission ticketExhibitions,Walkabout
ATTACH;FMTTYPE=image/png:https://www.norvalfoundation.org/wp-content/uploads/2026/01/Website.png
END:VEVENT
BEGIN:VEVENT
DTSTART;TZID=Europe/Helsinki:20260207T140000
DTEND;TZID=Europe/Helsinki:20260207T150000
DTSTAMP:20260424T203043
CREATED:20260113T134319Z
LAST-MODIFIED:20260113T134558Z
UID:36803-1770472800-1770476400@www.norvalfoundation.org
SUMMARY:Karel Nel Book Launch
DESCRIPTION:Join us for the launch of “Close and Far” on 7 February at 2pm\, followed by a special screening of the second half of Karel Nel: The Artist’s Voice\, the documentary by Michael Donnelly. \n  \nThe afternoon will include:\n • A short introduction by Karel Nel\n • A film screening offering further insight into his life and work \n  \nAn invitation to engage with an artist whose practice continually asks how we think\, see\, and understand our place in the universe. \n  \nDay passes and memberships available via Webtickets\n Please RSVP to info@norvalfoundation.org \n 
URL:https://www.norvalfoundation.org/event/karel-nel-book-launch/
CATEGORIES:Museum,Norval Foundation,Talks - Free with purchase of admission ticketExhibitions,Walkabout
ATTACH;FMTTYPE=image/png:https://www.norvalfoundation.org/wp-content/uploads/2026/01/Website-1.png
END:VEVENT
BEGIN:VEVENT
DTSTART;TZID=Europe/Helsinki:20260212T100000
DTEND;TZID=Europe/Helsinki:20260212T170000
DTSTAMP:20260424T203043
CREATED:20260205T133348Z
LAST-MODIFIED:20260205T133540Z
UID:36853-1770890400-1770915600@www.norvalfoundation.org
SUMMARY:Irma Stern Exhibition Opening
DESCRIPTION:Irma Stern: “A Life of Displacement” curated by Karel Nel\nOpening to the public on 12 February 2026 at 10am \n  \nA landmark exhibition tracing the life\, journeys\, and artistic legacy of one of South Africa’s most celebrated modernists. Drawing exclusively from Irma Stern’s archive and Collection\, this exhibition marks the first of four exhibitions in a two year collaboration between the Norval Foundation\, the Irma Stern Trust\, and Nedbank. \n  \nPresented at a pivotal moment following the temporary closure of the Irma Stern Museum\, this four part series ensures Irma Stern’s work remains accessible while expanding her legacy locally and internationally. \n 
URL:https://www.norvalfoundation.org/event/irma-stern-exhibition-opening/
CATEGORIES:Exhibitions,Museum,Norval Foundation,Talks - Free with purchase of admission ticketExhibitions,Walkabout
ATTACH;FMTTYPE=image/png:https://www.norvalfoundation.org/wp-content/uploads/2026/02/Website-46.png
END:VEVENT
BEGIN:VEVENT
DTSTART;TZID=Europe/Helsinki:20260218T110000
DTEND;TZID=Europe/Helsinki:20260218T120000
DTSTAMP:20260424T203043
CREATED:20260205T133745Z
LAST-MODIFIED:20260205T133949Z
UID:36859-1771412400-1771416000@www.norvalfoundation.org
SUMMARY:Portia Zvavahera Curator-led Walkabout
DESCRIPTION:Norval Foundation is pleased to present “Tanda Rima”\, a solo exhibition of works by Portia Zvavahera. \n  \nBorn in 1985 in Harare\, Zimbabwe\, where she lives and works\, Zvavahera’s practice draws on memory\, spirituality\, and lived experience. The exhibition will be open to the public from 18 February at 10am.  \nJoin us for a walkabout on 18 February at 11am. RSVP to info@norvalfoundation.org. Members join for free\, day passes available at the front desk or via webtickets. \n 
URL:https://www.norvalfoundation.org/event/portia-zvavahera-curator-led-walkabout/
CATEGORIES:Exhibitions,Museum,Norval Foundation,Talks - Free with purchase of admission ticketExhibitions,Walkabout
ATTACH;FMTTYPE=image/png:https://www.norvalfoundation.org/wp-content/uploads/2026/02/Website-47.png
END:VEVENT
BEGIN:VEVENT
DTSTART;TZID=Europe/Helsinki:20260222T110000
DTEND;TZID=Europe/Helsinki:20260222T120000
DTSTAMP:20260424T203043
CREATED:20260209T083551Z
LAST-MODIFIED:20260209T083801Z
UID:36862-1771758000-1771761600@www.norvalfoundation.org
SUMMARY:Brett Murray & Karel Nel in Conversation
DESCRIPTION:Join us for an insightful talk with Brett Murray in his latest exhibition\, Wild Life\, at Norval Foundation (galleries 2-8). This retrospective solo exhibition spans his 40-year career and features over 80 sculptures. It is a unique opportunity to hear from the artist himself about his creative process and the thinking behind his iconic sculptural work. \n 
URL:https://www.norvalfoundation.org/event/brett-murray-karel-nel-in-conversation/
CATEGORIES:Exhibitions,Museum,Norval Foundation,Talks - Free with purchase of admission ticketExhibitions,Walkabout
ATTACH;FMTTYPE=image/jpeg:https://www.norvalfoundation.org/wp-content/uploads/2025/12/Brett-Murray-18-scaled.jpg
END:VEVENT
END:VCALENDAR