BEGIN:VCALENDAR
VERSION:2.0
PRODID:-//Norval Foundation - ECPv5.16.4//NONSGML v1.0//EN
CALSCALE:GREGORIAN
METHOD:PUBLISH
X-WR-CALNAME:Norval Foundation
X-ORIGINAL-URL:https://www.norvalfoundation.org
X-WR-CALDESC:Events for Norval Foundation
REFRESH-INTERVAL;VALUE=DURATION:PT1H
X-Robots-Tag:noindex
X-PUBLISHED-TTL:PT1H
BEGIN:VTIMEZONE
TZID:Europe/Helsinki
BEGIN:DAYLIGHT
TZOFFSETFROM:+0200
TZOFFSETTO:+0300
TZNAME:EEST
DTSTART:20240331T010000
END:DAYLIGHT
BEGIN:STANDARD
TZOFFSETFROM:+0300
TZOFFSETTO:+0200
TZNAME:EET
DTSTART:20241027T010000
END:STANDARD
BEGIN:DAYLIGHT
TZOFFSETFROM:+0200
TZOFFSETTO:+0300
TZNAME:EEST
DTSTART:20250330T010000
END:DAYLIGHT
BEGIN:STANDARD
TZOFFSETFROM:+0300
TZOFFSETTO:+0200
TZNAME:EET
DTSTART:20251026T010000
END:STANDARD
BEGIN:DAYLIGHT
TZOFFSETFROM:+0200
TZOFFSETTO:+0300
TZNAME:EEST
DTSTART:20260329T010000
END:DAYLIGHT
BEGIN:STANDARD
TZOFFSETFROM:+0300
TZOFFSETTO:+0200
TZNAME:EET
DTSTART:20261025T010000
END:STANDARD
END:VTIMEZONE
BEGIN:VEVENT
DTSTART;TZID=Europe/Helsinki:20260124T080000
DTEND;TZID=Europe/Helsinki:20260124T090000
DTSTAMP:20260421T144537
CREATED:20251217T120502Z
LAST-MODIFIED:20251217T120714Z
UID:36773-1769241600-1769245200@www.norvalfoundation.org
SUMMARY:Pilates in the Garden
DESCRIPTION:Start your morning with movement and mindfulness! \n\nJoin us for Pilates in the Garden – only R100 for a 1-hour session surrounded by art and nature\, plus access to our Sculpture Garden. \n  \nBring your own mat and stay for a coffee at our café on the deck.  \nBook now via Webtickets and start your weekend the way you deserve! \nBOOK
URL:https://www.norvalfoundation.org/event/pilates-in-the-garden-3/
CATEGORIES:Norval Foundation
ATTACH;FMTTYPE=image/png:https://www.norvalfoundation.org/wp-content/uploads/2025/09/Website-34.png
END:VEVENT
BEGIN:VEVENT
DTSTART;TZID=Europe/Helsinki:20240711T140000
DTEND;TZID=Europe/Helsinki:20240711T150000
DTSTAMP:20260421T144537
CREATED:20231201T101252Z
LAST-MODIFIED:20240320T111051Z
UID:35353-1720706400-1720710000@www.norvalfoundation.org
SUMMARY:Weekly Walkabout
DESCRIPTION:Every week\, Norval Foundation curators guide our guests through a walkabout through our current exhibitions. \nWalkabouts are free for guests with valid entry to the foundation. \nEvery Thursday at 14h00
URL:https://www.norvalfoundation.org/event/weekly-walkabout-2/2024-07-11/
LOCATION:Norval Foundation
CATEGORIES:Walkabout
ATTACH;FMTTYPE=image/png:https://www.norvalfoundation.org/wp-content/uploads/2023/10/10-1.png
END:VEVENT
BEGIN:VEVENT
DTSTART;TZID=Europe/Helsinki:20240620T140000
DTEND;TZID=Europe/Helsinki:20240620T150000
DTSTAMP:20260421T144537
CREATED:20231201T101252Z
LAST-MODIFIED:20240320T111050Z
UID:35351-1718892000-1718895600@www.norvalfoundation.org
SUMMARY:Weekly Walkabout
DESCRIPTION:Every week\, Norval Foundation curators guide our guests through a walkabout through our current exhibitions. \nWalkabouts are free for guests with valid entry to the foundation. \nEvery Thursday at 14h00
URL:https://www.norvalfoundation.org/event/weekly-walkabout-2/2024-06-20/
LOCATION:Norval Foundation
CATEGORIES:Walkabout
ATTACH;FMTTYPE=image/png:https://www.norvalfoundation.org/wp-content/uploads/2023/10/10-1.png
END:VEVENT
BEGIN:VEVENT
DTSTART;TZID=Europe/Helsinki:20240509T140000
DTEND;TZID=Europe/Helsinki:20240509T150000
DTSTAMP:20260421T144537
CREATED:20231201T101252Z
LAST-MODIFIED:20240320T111040Z
UID:35338-1715263200-1715266800@www.norvalfoundation.org
SUMMARY:Weekly Walkabout
DESCRIPTION:Every week\, Norval Foundation curators guide our guests through a walkabout through our current exhibitions. \nWalkabouts are free for guests with valid entry to the foundation. \nEvery Thursday at 14h00
URL:https://www.norvalfoundation.org/event/weekly-walkabout-2/2024-05-09/
LOCATION:Norval Foundation
CATEGORIES:Walkabout
ATTACH;FMTTYPE=image/png:https://www.norvalfoundation.org/wp-content/uploads/2023/10/10-1.png
END:VEVENT
BEGIN:VEVENT
DTSTART;TZID=Europe/Helsinki:20240502T140000
DTEND;TZID=Europe/Helsinki:20240502T150000
DTSTAMP:20260421T144537
CREATED:20231201T101252Z
LAST-MODIFIED:20240320T111040Z
UID:35346-1714658400-1714662000@www.norvalfoundation.org
SUMMARY:Weekly Walkabout
DESCRIPTION:Every week\, Norval Foundation curators guide our guests through a walkabout through our current exhibitions. \nWalkabouts are free for guests with valid entry to the foundation. \nEvery Thursday at 14h00
URL:https://www.norvalfoundation.org/event/weekly-walkabout-2/2024-05-02/
LOCATION:Norval Foundation
CATEGORIES:Walkabout
ATTACH;FMTTYPE=image/png:https://www.norvalfoundation.org/wp-content/uploads/2023/10/10-1.png
END:VEVENT
BEGIN:VEVENT
DTSTART;TZID=Europe/Helsinki:20240425T140000
DTEND;TZID=Europe/Helsinki:20240425T150000
DTSTAMP:20260421T144537
CREATED:20231201T101252Z
LAST-MODIFIED:20240320T111039Z
UID:35345-1714053600-1714057200@www.norvalfoundation.org
SUMMARY:Weekly Walkabout
DESCRIPTION:Every week\, Norval Foundation curators guide our guests through a walkabout through our current exhibitions. \nWalkabouts are free for guests with valid entry to the foundation. \nEvery Thursday at 14h00
URL:https://www.norvalfoundation.org/event/weekly-walkabout-2/2024-04-25/
LOCATION:Norval Foundation
CATEGORIES:Walkabout
ATTACH;FMTTYPE=image/png:https://www.norvalfoundation.org/wp-content/uploads/2023/10/10-1.png
END:VEVENT
BEGIN:VEVENT
DTSTART;TZID=Europe/Helsinki:20240314T140000
DTEND;TZID=Europe/Helsinki:20240314T150000
DTSTAMP:20260421T144537
CREATED:20231201T101252Z
LAST-MODIFIED:20240320T111038Z
UID:35024-1710424800-1710428400@www.norvalfoundation.org
SUMMARY:Weekly Walkabout
DESCRIPTION:Every week\, Norval Foundation curators guide our guests through a walkabout through our current exhibitions. \nWalkabouts are free for guests with valid entry to the foundation. \nEvery Thursday at 14h00
URL:https://www.norvalfoundation.org/event/weekly-walkabout-2/2024-03-14/
LOCATION:Norval Foundation
CATEGORIES:Walkabout
ATTACH;FMTTYPE=image/png:https://www.norvalfoundation.org/wp-content/uploads/2023/10/10-1.png
END:VEVENT
END:VCALENDAR